BEGIN:VCALENDAR
VERSION:2.0
PRODID:-//Kings | Comedy Clubs - ECPv6.15.20//NONSGML v1.0//EN
CALSCALE:GREGORIAN
METHOD:PUBLISH
X-ORIGINAL-URL:https://www.lekings.be
X-WR-CALDESC:Évènements pour Kings | Comedy Clubs
REFRESH-INTERVAL;VALUE=DURATION:PT1H
X-Robots-Tag:noindex
X-PUBLISHED-TTL:PT1H
BEGIN:VTIMEZONE
TZID:Europe/Paris
BEGIN:DAYLIGHT
TZOFFSETFROM:+0100
TZOFFSETTO:+0200
TZNAME:CEST
DTSTART:20250330T010000
END:DAYLIGHT
BEGIN:STANDARD
TZOFFSETFROM:+0200
TZOFFSETTO:+0100
TZNAME:CET
DTSTART:20251026T010000
END:STANDARD
BEGIN:DAYLIGHT
TZOFFSETFROM:+0100
TZOFFSETTO:+0200
TZNAME:CEST
DTSTART:20260329T010000
END:DAYLIGHT
BEGIN:STANDARD
TZOFFSETFROM:+0200
TZOFFSETTO:+0100
TZNAME:CET
DTSTART:20261025T010000
END:STANDARD
BEGIN:DAYLIGHT
TZOFFSETFROM:+0100
TZOFFSETTO:+0200
TZNAME:CEST
DTSTART:20270328T010000
END:DAYLIGHT
BEGIN:STANDARD
TZOFFSETFROM:+0200
TZOFFSETTO:+0100
TZNAME:CET
DTSTART:20271031T010000
END:STANDARD
BEGIN:DAYLIGHT
TZOFFSETFROM:+0100
TZOFFSETTO:+0200
TZNAME:CEST
DTSTART:20280326T010000
END:DAYLIGHT
BEGIN:STANDARD
TZOFFSETFROM:+0200
TZOFFSETTO:+0100
TZNAME:CET
DTSTART:20281029T010000
END:STANDARD
END:VTIMEZONE
BEGIN:VEVENT
DTSTART;TZID=Europe/Paris:20261121T203000
DTEND;TZID=Europe/Paris:20261121T203000
DTSTAMP:20260419T193816
CREATED:20260310T121724Z
LAST-MODIFIED:20260316T210530Z
UID:10005262-1795293000-1795293000@www.lekings.be
SUMMARY:Alex Di Mambro - Alex Di Mambro (A l'Espace Lumen)
DESCRIPTION:Le citron à petite dose\, rajoute du goût aux choses\, mais trop de citron et ça devient\nacide.\nEt dans la vie j’aime les choses au point que ça devienne trop acide.\nAlex Di Mambro\nAlexandre Di Mambro est fasciné par l’absurdité du monde dans lequel nous vivons.\nL’humoriste déroule sur scène une routine à mi-chemin entre l’observation et le\nfantasme. Il joue actuellement son spectacle Citron\, un vendredi sur deux\, à l’Apollo\nComedy. Pendant soixante minutes\, Alex réussit à nous faire rire tout en nous invitant à\nrepenser le monde avec une fraîcheur et une insolence rares. \n\n\nRéservez vos placesAlex sur les réseaux\nReprésentation à 20h30 : Ouverture des portes à 19h30 \nMerci d’être là au minimum 15 minutes avant le show.\nLe placement est libre \nATTENTION LE SHOW SE TIENT A L’ESPACE LUMEN !!! \n[vc_raw_html]JTNDYSUyMHRpdGxlJTNEJTIyVmVudGUlMjBkZSUyMGJpbGxldHMlMjBlbiUyMGxpZ25lJTIyJTIwaHJlZiUzRCUyMmh0dHBzJTNBJTJGJTJGd3d3LmJpbGxldHdlYi5mciUyRnNob3AucGhwJTNGZXZlbnQlM0RhbGV4LWRpLW1hbWJyby1jaXRyb240JTIyJTIwJTIwY2xhc3MlM0QlMjJzaG9wX2ZyYW1lJTIyJTIwJTIwdGFyZ2V0JTNEJTIyX2JsYW5rJTIyJTIwJTIwZGF0YS1zcmMlM0QlMjJodHRwcyUzQSUyRiUyRnd3dy5iaWxsZXR3ZWIuZnIlMkZzaG9wLnBocCUzRmV2ZW50JTNEYWxleC1kaS1tYW1icm8tY2l0cm9uNCUyMiUyMCUyMGRhdGEtbWF4LXdpZHRoJTNEJTIyMTAwJTI1JTIyJTIwJTIwZGF0YS1pbml0aWFsLWhlaWdodCUzRCUyMjYwMCUyMiUyMGRhdGEtc2Nyb2xsaW5nJTNEJTIybm8lMjIlMjAlMjBkYXRhLWlkJTNEJTIyYWxleC1kaS1tYW1icm8tY2l0cm9uNCUyMiUyMCUyMGRhdGEtcmVzaXplJTNEJTIyMSUyMiUzRVZlbnRlJTIwZGUlMjBiaWxsZXRzJTIwZW4lMjBsaWduZSUzQyUyRmElM0UlM0NzY3JpcHQlMjB0eXBlJTNEJTIydGV4dCUyRmphdmFzY3JpcHQlMjIlMjBzcmMlM0QlMjJodHRwcyUzQSUyRiUyRnd3dy5iaWxsZXR3ZWIuZnIlMkZqcyUyRmV4cG9ydC5qcyUyMiUzRSUzQyUyRnNjcmlwdCUzRQ==[/vc_raw_html]
URL:https://www.lekings.be/event/alex-di-mambo-citron-a-lespace-lumen/
LOCATION:Privé : Espace lumen
CATEGORIES:Espace Lumen,Spectacles,Upcoming
ATTACH;FMTTYPE=image/jpeg:https://www.lekings.be/wp-content/uploads/2025/06/Alex_DiMambro_citron-1200x1800-1.jpg
END:VEVENT
BEGIN:VEVENT
DTSTART;TZID=Europe/Paris:20261126T210000
DTEND;TZID=Europe/Paris:20261126T210000
DTSTAMP:20260419T193816
CREATED:20260411T132949Z
LAST-MODIFIED:20260414T101948Z
UID:10005426-1795726800-1795726800@www.lekings.be
SUMMARY:Justine Le Pottier en rodage
DESCRIPTION:Et si je vous racontais ma vie d’actrice ?\nEntre mon emménagement à Paris\, les\ncours de théâtre\, les castings (souvent\nratés)\, l’âge d’or de YouTube\, mon mec\,\nmon chien et ma rencontre avec un\npilote de F1.\n\nRéservez vos placesJustine sur les réseaux\nReprésentation à 19h : Ouverture des portes à 18h30\nReprésentation à 21h : Ouverture des portes à 20h30 \nMerci d’être là au minimum 15 minutes avant le show. Toute réservation qui arriverait plus tard risque de se voir redistribuée afin d’éviter les tables vides en salle. Le placement est libre donc plus tôt vous venez\, mieux vous serez placé. \n[vc_raw_html]JTNDYSUyMHRpdGxlJTNEJTIyVmVudGUlMjBkZSUyMGJpbGxldHMlMjBlbiUyMGxpZ25lJTIyJTIwaHJlZiUzRCUyMmh0dHBzJTNBJTJGJTJGd3d3LmJpbGxldHdlYi5mciUyRnNob3AucGhwJTNGZXZlbnQlM0RqdXN0aW5lLWxlLXBvdHRpZXItZW4tcm9kYWdlMiUyMiUyMCUyMGNsYXNzJTNEJTIyc2hvcF9mcmFtZSUyMiUyMCUyMHRhcmdldCUzRCUyMl9ibGFuayUyMiUyMCUyMGRhdGEtc3JjJTNEJTIyaHR0cHMlM0ElMkYlMkZ3d3cuYmlsbGV0d2ViLmZyJTJGc2hvcC5waHAlM0ZldmVudCUzRGp1c3RpbmUtbGUtcG90dGllci1lbi1yb2RhZ2UyJTIyJTIwJTIwZGF0YS1tYXgtd2lkdGglM0QlMjIxMDAlMjUlMjIlMjAlMjBkYXRhLWluaXRpYWwtaGVpZ2h0JTNEJTIyNjAwJTIyJTIwZGF0YS1zY3JvbGxpbmclM0QlMjJubyUyMiUyMCUyMGRhdGEtaWQlM0QlMjJqdXN0aW5lLWxlLXBvdHRpZXItZW4tcm9kYWdlMiUyMiUyMCUyMGRhdGEtcmVzaXplJTNEJTIyMSUyMiUzRVZlbnRlJTIwZGUlMjBiaWxsZXRzJTIwZW4lMjBsaWduZSUzQyUyRmElM0UlM0NzY3JpcHQlMjB0eXBlJTNEJTIydGV4dCUyRmphdmFzY3JpcHQlMjIlMjBzcmMlM0QlMjJodHRwcyUzQSUyRiUyRnd3dy5iaWxsZXR3ZWIuZnIlMkZqcyUyRmV4cG9ydC5qcyUyMiUzRSUzQyUyRnNjcmlwdCUzRQ==[/vc_raw_html]
URL:https://www.lekings.be/event/justine-le-pottier-en-rodage-2/
LOCATION:Kings of Comedy Club\, 489\, Chaussée de Boondael\, Ixelles\, Bruxelles\, Belgique
CATEGORIES:Spectacles,Upcoming
ATTACH;FMTTYPE=image/jpeg:https://www.lekings.be/wp-content/uploads/2026/04/AFFICHE-NEUTRE.jpg
END:VEVENT
BEGIN:VEVENT
DTSTART;TZID=Europe/Paris:20261126T210000
DTEND;TZID=Europe/Paris:20261126T210000
DTSTAMP:20260419T193816
CREATED:20260411T133024Z
LAST-MODIFIED:20260411T133024Z
UID:10005428-1795726800-1795726800@www.lekings.be
SUMMARY:Justine Le Pottier en rodage
DESCRIPTION:Et si je vous racontais ma vie d’actrice ?\nEntre mon emménagement à Paris\, les\ncours de théâtre\, les castings (souvent\nratés)\, l’âge d’or de YouTube\, mon mec\,\nmon chien et ma rencontre avec un\npilote de F1.\n\nRéservez vos placesJustine sur les réseaux\nReprésentation à 19h : Ouverture des portes à 18h30\nReprésentation à 21h : Ouverture des portes à 20h30 \nMerci d’être là au minimum 15 minutes avant le show. Toute réservation qui arriverait plus tard risque de se voir redistribuée afin d’éviter les tables vides en salle. Le placement est libre donc plus tôt vous venez\, mieux vous serez placé. \n[vc_raw_html]JTNDYSUyMHRpdGxlJTNEJTIyVmVudGUlMjBkZSUyMGJpbGxldHMlMjBlbiUyMGxpZ25lJTIyJTIwaHJlZiUzRCUyMmh0dHBzJTNBJTJGJTJGd3d3LmJpbGxldHdlYi5mciUyRnNob3AucGhwJTNGZXZlbnQlM0RqdXN0aW5lLWxlLXBvdHRpZXItZW4tcm9kYWdlMiUyMiUyMCUyMGNsYXNzJTNEJTIyc2hvcF9mcmFtZSUyMiUyMCUyMHRhcmdldCUzRCUyMl9ibGFuayUyMiUyMCUyMGRhdGEtc3JjJTNEJTIyaHR0cHMlM0ElMkYlMkZ3d3cuYmlsbGV0d2ViLmZyJTJGc2hvcC5waHAlM0ZldmVudCUzRGp1c3RpbmUtbGUtcG90dGllci1lbi1yb2RhZ2UyJTIyJTIwJTIwZGF0YS1tYXgtd2lkdGglM0QlMjIxMDAlMjUlMjIlMjAlMjBkYXRhLWluaXRpYWwtaGVpZ2h0JTNEJTIyNjAwJTIyJTIwZGF0YS1zY3JvbGxpbmclM0QlMjJubyUyMiUyMCUyMGRhdGEtaWQlM0QlMjJqdXN0aW5lLWxlLXBvdHRpZXItZW4tcm9kYWdlMiUyMiUyMCUyMGRhdGEtcmVzaXplJTNEJTIyMSUyMiUzRVZlbnRlJTIwZGUlMjBiaWxsZXRzJTIwZW4lMjBsaWduZSUzQyUyRmElM0UlM0NzY3JpcHQlMjB0eXBlJTNEJTIydGV4dCUyRmphdmFzY3JpcHQlMjIlMjBzcmMlM0QlMjJodHRwcyUzQSUyRiUyRnd3dy5iaWxsZXR3ZWIuZnIlMkZqcyUyRmV4cG9ydC5qcyUyMiUzRSUzQyUyRnNjcmlwdCUzRQ==[/vc_raw_html]
URL:https://www.lekings.be/event/justine-le-pottier-en-rodage-3/
LOCATION:Kings of Comedy Club\, 489\, Chaussée de Boondael\, Ixelles\, Bruxelles\, Belgique
CATEGORIES:Spectacles,Upcoming
ATTACH;FMTTYPE=image/jpeg:https://www.lekings.be/wp-content/uploads/2026/04/AFFICHE-NEUTRE.jpg
END:VEVENT
BEGIN:VEVENT
DTSTART;TZID=Europe/Paris:20261203T210000
DTEND;TZID=Europe/Paris:20261203T210000
DTSTAMP:20260419T193816
CREATED:20260313T152411Z
LAST-MODIFIED:20260315T150635Z
UID:10005273-1796331600-1796331600@www.lekings.be
SUMMARY:Kino - Panic Attack
DESCRIPTION:Alors que tout allait bien dans sa vie… elle est arrivée. \nLa première. \nCelle dont on se souvient toujours : L’attaque de panic \nKino va être diagnostiqué d’une anxiété généralisée avec option agoraphobie. \nLe meilleur diagnostic possible quand on joue tous les soirs devant des centaines de personnes\, dans une salle\, fermée\, sans fenêtres. Parfait timing. \nAujourd’hui\, tout va mieux. \nIl a enfin assez de recul pour raconter ce bordel sur scène : comment la santé mentale lui est tombée dessus sans prévenir\, comment il a géré\, foiré\, survécu et surtout… comment il a décidé d’en faire un spectacle. \nPANIC ATTACK\, c’est drôle\, honnête et décomplexé. \nUn spectacle sur deux années d’enfer… racontées par quelqu’un qui peut enfin en rire. \n\n\nRéservez vos placesKino sur les réseaux\nReprésentation à 21h : Ouverture des portes à 20h30 \nMerci d’être là au minimum 15 minutes avant le show. Toute réservation qui arriverait plus tard risque de se voir redistribuée afin d’éviter les tables vides en salle. Le placement est libre donc plus tôt vous venez\, mieux vous serez placé. \n[vc_raw_html]JTNDYSUyMHRpdGxlJTNEJTIyVmVudGUlMjBkZSUyMGJpbGxldHMlMjBlbiUyMGxpZ25lJTIyJTIwaHJlZiUzRCUyMmh0dHBzJTNBJTJGJTJGd3d3LmJpbGxldHdlYi5mciUyRnNob3AucGhwJTNGZXZlbnQlM0RicmFobXMtbm91dmVhdS1jaGFwaXRyZTIlMjIlMjAlMjBjbGFzcyUzRCUyMnNob3BfZnJhbWUlMjIlMjAlMjB0YXJnZXQlM0QlMjJfYmxhbmslMjIlMjAlMjBkYXRhLXNyYyUzRCUyMmh0dHBzJTNBJTJGJTJGd3d3LmJpbGxldHdlYi5mciUyRnNob3AucGhwJTNGZXZlbnQlM0RicmFobXMtbm91dmVhdS1jaGFwaXRyZTIlMjIlMjAlMjBkYXRhLW1heC13aWR0aCUzRCUyMjEwMCUyNSUyMiUyMCUyMGRhdGEtaW5pdGlhbC1oZWlnaHQlM0QlMjI2MDAlMjIlMjBkYXRhLXNjcm9sbGluZyUzRCUyMm5vJTIyJTIwJTIwZGF0YS1pZCUzRCUyMmJyYWhtcy1ub3V2ZWF1LWNoYXBpdHJlMiUyMiUyMCUyMGRhdGEtcmVzaXplJTNEJTIyMSUyMiUzRVZlbnRlJTIwZGUlMjBiaWxsZXRzJTIwZW4lMjBsaWduZSUzQyUyRmElM0UlM0NzY3JpcHQlMjB0eXBlJTNEJTIydGV4dCUyRmphdmFzY3JpcHQlMjIlMjBzcmMlM0QlMjJodHRwcyUzQSUyRiUyRnd3dy5iaWxsZXR3ZWIuZnIlMkZqcyUyRmV4cG9ydC5qcyUyMiUzRSUzQyUyRnNjcmlwdCUzRQ==[/vc_raw_html]
URL:https://www.lekings.be/event/kino-panic-attack/
LOCATION:Kings of Comedy Club\, 489\, Chaussée de Boondael\, Ixelles\, Bruxelles\, Belgique
CATEGORIES:Spectacles,Upcoming
ATTACH;FMTTYPE=image/jpeg:https://www.lekings.be/wp-content/uploads/2026/03/600x600affiche_Kinoaffiche_Kinoaffiche_Kino.jpg
END:VEVENT
BEGIN:VEVENT
DTSTART;TZID=Europe/Paris:20270107T210000
DTEND;TZID=Europe/Paris:20270107T210000
DTSTAMP:20260419T193816
CREATED:20260310T150123Z
LAST-MODIFIED:20260311T091843Z
UID:10005269-1799355600-1799355600@www.lekings.be
SUMMARY:Lorenzo Mancini - Jeux de Société
DESCRIPTION:« La société est un grand jeu dont on n’a pas décidé les règles. »\n \nNombre de joueurs : Illimité.\nBut du jeu : Rigoler (et réfléchir au moins un peu).\nType : Spectacle de stand-up.\nDurée d’une partie : environ 1h15.\nÂge recommandé : Entre 16 et 116 ans.\nMatériel obligatoire : Un cerveau et du second degré.\nNon conseillé : Avoir plus de 0\,5 gr d’alcool dans le sang.\nAttention : En venant au spectacle\, vous acceptez de remettre en question le monde qui nous entoure. Après la partie\, si vous ressortez en vous posant des questions\, c’est normal.  Si vous ressortez avec des réponses\, c’est inquiétant.\n\n\nRéservez vos placesLorenzo sur les réseaux\nReprésentation à 21h : Ouverture des portes à 20h30 \nMerci d’être là au minimum 15 minutes avant le show. Toute réservation qui arriverait plus tard risque de se voir redistribuée afin d’éviter les tables vides en salle. Le placement est libre donc plus tôt vous venez\, mieux vous serez placé. \n[vc_raw_html]JTNDYSUyMHRpdGxlJTNEJTIyVmVudGUlMjBkZSUyMGJpbGxldHMlMjBlbiUyMGxpZ25lJTIyJTIwaHJlZiUzRCUyMmh0dHBzJTNBJTJGJTJGd3d3LmJpbGxldHdlYi5mciUyRnNob3AucGhwJTNGZXZlbnQlM0Rsb3JlbnpvLW1hbmNpbmktamV1eC1kZS1zb2NpZXRlMSUyMiUyMCUyMGNsYXNzJTNEJTIyc2hvcF9mcmFtZSUyMiUyMCUyMHRhcmdldCUzRCUyMl9ibGFuayUyMiUyMCUyMGRhdGEtc3JjJTNEJTIyaHR0cHMlM0ElMkYlMkZ3d3cuYmlsbGV0d2ViLmZyJTJGc2hvcC5waHAlM0ZldmVudCUzRGxvcmVuem8tbWFuY2luaS1qZXV4LWRlLXNvY2lldGUxJTIyJTIwJTIwZGF0YS1tYXgtd2lkdGglM0QlMjIxMDAlMjUlMjIlMjAlMjBkYXRhLWluaXRpYWwtaGVpZ2h0JTNEJTIyNjAwJTIyJTIwZGF0YS1zY3JvbGxpbmclM0QlMjJubyUyMiUyMCUyMGRhdGEtaWQlM0QlMjJsb3JlbnpvLW1hbmNpbmktamV1eC1kZS1zb2NpZXRlMSUyMiUyMCUyMGRhdGEtcmVzaXplJTNEJTIyMSUyMiUzRVZlbnRlJTIwZGUlMjBiaWxsZXRzJTIwZW4lMjBsaWduZSUzQyUyRmElM0UlM0NzY3JpcHQlMjB0eXBlJTNEJTIydGV4dCUyRmphdmFzY3JpcHQlMjIlMjBzcmMlM0QlMjJodHRwcyUzQSUyRiUyRnd3dy5iaWxsZXR3ZWIuZnIlMkZqcyUyRmV4cG9ydC5qcyUyMiUzRSUzQyUyRnNjcmlwdCUzRQ==[/vc_raw_html]
URL:https://www.lekings.be/event/lorenzo-mancini-jeux-de-societe-2/2027-01-07/
LOCATION:Kings of Comedy Club\, 489\, Chaussée de Boondael\, Ixelles\, Bruxelles\, Belgique
CATEGORIES:Spectacles,Upcoming
ATTACH;FMTTYPE=image/jpeg:https://www.lekings.be/wp-content/uploads/2026/03/Affiche-JEUX-DE-SOCIETE_Rodage_FINAL@05x-scaled.jpg
END:VEVENT
BEGIN:VEVENT
DTSTART;TZID=Europe/Paris:20270225T210000
DTEND;TZID=Europe/Paris:20270225T210000
DTSTAMP:20260419T193816
CREATED:20260414T101848Z
LAST-MODIFIED:20260414T101848Z
UID:10005433-1803589200-1803589200@www.lekings.be
SUMMARY:Anne Cahen - Moment de qualité
DESCRIPTION:  \n\nDans Moment de Qualité\, Anne Cahen dissèque entre autres (il s’agirait pas de tout spoiler) le monde parfois absurde du travail\, les introvertis\, les choix de vie\, la magie du Bigdil (oui oui)\, les gens en général… \nVous l’avez peut-être déjà entendue sur France Inter ou vue sur Canal+ et CultureBox où ses sketchs sont régulièrement diffusés. \nAnne Cahen\, étoile montante du stand up\, joue régulièrement au Point Virgule\, Paname Art Café et sur toutes les prestigieuses scènes des comedy clubs parisiens. \nLe Saviez-vous ?\nGagnante du prix d’écriture SACD 2024 \n\n\n\nRéservez vos placesAnne sur les réseaux\nReprésentation à 19h : Ouverture des portes à 18h30\nReprésentation à 21h : Ouverture des portes à 20h30 \nMerci d’être là au minimum 15 minutes avant le show. Toute réservation qui arriverait plus tard risque de se voir redistribuée afin d’éviter les tables vides en salle. Le placement est libre donc plus tôt vous venez\, mieux vous serez placé. \n[vc_raw_html]JTNDYSUyMHRpdGxlJTNEJTIyVmVudGUlMjBkZSUyMGJpbGxldHMlMjBlbiUyMGxpZ25lJTIyJTIwaHJlZiUzRCUyMmh0dHBzJTNBJTJGJTJGd3d3LmJpbGxldHdlYi5mciUyRnNob3AucGhwJTNGZXZlbnQlM0Rhbm5lLWNhaGVuLW1vbWVudC1kZS1xdWFsaXRlMSUyMiUyMCUyMGNsYXNzJTNEJTIyc2hvcF9mcmFtZSUyMiUyMCUyMHRhcmdldCUzRCUyMl9ibGFuayUyMiUyMCUyMGRhdGEtc3JjJTNEJTIyaHR0cHMlM0ElMkYlMkZ3d3cuYmlsbGV0d2ViLmZyJTJGc2hvcC5waHAlM0ZldmVudCUzRGFubmUtY2FoZW4tbW9tZW50LWRlLXF1YWxpdGUxJTIyJTIwJTIwZGF0YS1tYXgtd2lkdGglM0QlMjIxMDAlMjUlMjIlMjAlMjBkYXRhLWluaXRpYWwtaGVpZ2h0JTNEJTIyNjAwJTIyJTIwZGF0YS1zY3JvbGxpbmclM0QlMjJubyUyMiUyMCUyMGRhdGEtaWQlM0QlMjJhbm5lLWNhaGVuLW1vbWVudC1kZS1xdWFsaXRlMSUyMiUyMCUyMGRhdGEtcmVzaXplJTNEJTIyMSUyMiUzRVZlbnRlJTIwZGUlMjBiaWxsZXRzJTIwZW4lMjBsaWduZSUzQyUyRmElM0UlM0NzY3JpcHQlMjB0eXBlJTNEJTIydGV4dCUyRmphdmFzY3JpcHQlMjIlMjBzcmMlM0QlMjJodHRwcyUzQSUyRiUyRnd3dy5iaWxsZXR3ZWIuZnIlMkZqcyUyRmV4cG9ydC5qcyUyMiUzRSUzQyUyRnNjcmlwdCUzRQ==[/vc_raw_html]
URL:https://www.lekings.be/event/anne-cahen-moment-de-qualite/
LOCATION:Kings of Comedy Club\, 489\, Chaussée de Boondael\, Ixelles\, Bruxelles\, Belgique
CATEGORIES:Spectacles,Upcoming
ATTACH;FMTTYPE=image/jpeg:https://www.lekings.be/wp-content/uploads/2025/06/justeTitre.jpg
END:VEVENT
BEGIN:VEVENT
DTSTART;TZID=Europe/Paris:20271210T210000
DTEND;TZID=Europe/Paris:20271210T210000
DTSTAMP:20260419T193816
CREATED:20260402T103727Z
LAST-MODIFIED:20260402T103727Z
UID:10005319-1828472400-1828472400@www.lekings.be
SUMMARY:Guillaume Fosko - Daron Fragile
DESCRIPTION:Dans un stand-up aussi introspectif qu’efficace\, Fosko explore avec humour et sincérité les complexités de la famille moderne. Son couple\, ses enfants\, ses parents… Vous plongez avec lui dans les hauts et les bas d’une famille qui pourrait clairement être la vôtre. Un regard frais\, authentique et bourré d’auto-dérision.\n\nRéservez vos placesFosko sur les réseaux\nReprésentation à 21h : Ouverture des portes à 20h30 \nMerci d’être là au minimum 15 minutes avant le show. Toute réservation qui arriverait plus tard risque de se voir redistribuée afin d’éviter les tables vides en salle. Le placement est libre donc plus tôt vous venez\, mieux vous serez placé. \n[vc_raw_html]JTNDYSUyMHRpdGxlJTNEJTIyVmVudGUlMjBkZSUyMGJpbGxldHMlMjBlbiUyMGxpZ25lJTIyJTIwaHJlZiUzRCUyMmh0dHBzJTNBJTJGJTJGd3d3LmJpbGxldHdlYi5mciUyRnNob3AucGhwJTNGZXZlbnQlM0RndWlsbGF1bWUtZm9za28tZGFyb24tZnJhZ2lsZTElMjIlMjAlMjBjbGFzcyUzRCUyMnNob3BfZnJhbWUlMjIlMjAlMjB0YXJnZXQlM0QlMjJfYmxhbmslMjIlMjAlMjBkYXRhLXNyYyUzRCUyMmh0dHBzJTNBJTJGJTJGd3d3LmJpbGxldHdlYi5mciUyRnNob3AucGhwJTNGZXZlbnQlM0RndWlsbGF1bWUtZm9za28tZGFyb24tZnJhZ2lsZTElMjIlMjAlMjBkYXRhLW1heC13aWR0aCUzRCUyMjEwMCUyNSUyMiUyMCUyMGRhdGEtaW5pdGlhbC1oZWlnaHQlM0QlMjI2MDAlMjIlMjBkYXRhLXNjcm9sbGluZyUzRCUyMm5vJTIyJTIwJTIwZGF0YS1pZCUzRCUyMmd1aWxsYXVtZS1mb3Nrby1kYXJvbi1mcmFnaWxlMSUyMiUyMCUyMGRhdGEtcmVzaXplJTNEJTIyMSUyMiUzRVZlbnRlJTIwZGUlMjBiaWxsZXRzJTIwZW4lMjBsaWduZSUzQyUyRmElM0UlM0NzY3JpcHQlMjB0eXBlJTNEJTIydGV4dCUyRmphdmFzY3JpcHQlMjIlMjBzcmMlM0QlMjJodHRwcyUzQSUyRiUyRnd3dy5iaWxsZXR3ZWIuZnIlMkZqcyUyRmV4cG9ydC5qcyUyMiUzRSUzQyUyRnNjcmlwdCUzRQ==[/vc_raw_html]
URL:https://www.lekings.be/event/guillaume-fosko-daron-fragile/
LOCATION:Kings of Comedy Club\, 489\, Chaussée de Boondael\, Ixelles\, Bruxelles\, Belgique
CATEGORIES:Spectacles,Upcoming
ATTACH;FMTTYPE=image/jpeg:https://www.lekings.be/wp-content/uploads/2026/04/img-da186914-575a-48ea-b2ff-1bddf4c7ab7b-1.jpeg
END:VEVENT
END:VCALENDAR